BEGIN:VCALENDAR
PRODID:-//Google Inc//Google Calendar 70.9054//EN
VERSION:2.0
CALSCALE:GREGORIAN
METHOD:PUBLISH
X-WR-CALNAME:Darlington School
X-WR-TIMEZONE:America/New_York
BEGIN:VTIMEZONE
TZID:America/New_York
X-LIC-LOCATION:America/New_York
BEGIN:DAYLIGHT
TZOFFSETFROM:-0500
TZOFFSETTO:-0400
TZNAME:EDT
DTSTART:19700308T020000
RRULE:FREQ=YEARLY;BYMONTH=3;BYDAY=2SU
END:DAYLIGHT
BEGIN:STANDARD
TZOFFSETFROM:-0400
TZOFFSETTO:-0500
TZNAME:EST
DTSTART:19701101T020000
RRULE:FREQ=YEARLY;BYMONTH=11;BYDAY=1SU
END:STANDARD
END:VTIMEZONE
BEGIN:VEVENT
DTSTART;TZID=America/New_York:20251111T173000
DTEND;TZID=America/New_York:20251111T190000
DTSTAMP:20260422T161001
UID:7189138
CREATED:20250917T140228
DESCRIPTION:
LAST-MODIFIED:20251117T105649
LOCATION:Darlington School
SEQUENCE:0
STATUS:CONFIRMED
SUMMARY:Boys M.S. Swim/Dive vs Fall Splash
TRANSP:OPAQUE
END:VEVENT
BEGIN:VEVENT
DTSTART;TZID=America/New_York:20251118T173000
DTEND;TZID=America/New_York:20251118T190000
DTSTAMP:20260422T161001
UID:7189139
CREATED:20250917T140310
DESCRIPTION:
LAST-MODIFIED:20260112T122043
LOCATION:Rome High School
SEQUENCE:0
STATUS:CONFIRMED
SUMMARY:Boys M.S. Swim/Dive vs Duel Meet
TRANSP:OPAQUE
END:VEVENT
BEGIN:VEVENT
DTSTART;TZID=America/New_York;VALUE=DATE:20251206
DTSTAMP:20260422T161001
UID:7189140
CREATED:20250917T140758
DESCRIPTION:
LAST-MODIFIED:20260112T122113
LOCATION:Dalton High School
SEQUENCE:0
STATUS:CONFIRMED
SUMMARY:Boys M.S. Swim/Dive vs Invitational (TBA)
TRANSP:OPAQUE
END:VEVENT
BEGIN:VEVENT
DTSTART;TZID=America/New_York:20251216T173000
DTEND;TZID=America/New_York:20251216T190000
DTSTAMP:20260422T161001
UID:7189141
CREATED:20250917T140838
DESCRIPTION:
LAST-MODIFIED:20260112T122113
LOCATION:Darlington School
SEQUENCE:0
STATUS:CONFIRMED
SUMMARY:Boys M.S. Swim/Dive vs Winter Wave
TRANSP:OPAQUE
END:VEVENT
BEGIN:VEVENT
DTSTART;TZID=America/New_York:20260120T173000
DTEND;TZID=America/New_York:20260120T190000
DTSTAMP:20260422T161001
UID:7189142
CREATED:20250917T140935
DESCRIPTION:
LAST-MODIFIED:20260121T124306
LOCATION:Darlington School
SEQUENCE:0
STATUS:CONFIRMED
SUMMARY:Boys M.S. Swim/Dive vs Bremen\, Central Carrollton
TRANSP:OPAQUE
END:VEVENT
END:VCALENDAR