BEGIN:VCALENDAR
PRODID:-//Google Inc//Google Calendar 70.9054//EN
VERSION:2.0
CALSCALE:GREGORIAN
METHOD:PUBLISH
X-WR-CALNAME:Darlington School
X-WR-TIMEZONE:America/New_York
BEGIN:VTIMEZONE
TZID:America/New_York
X-LIC-LOCATION:America/New_York
BEGIN:DAYLIGHT
TZOFFSETFROM:-0500
TZOFFSETTO:-0400
TZNAME:EDT
DTSTART:19700308T020000
RRULE:FREQ=YEARLY;BYMONTH=3;BYDAY=2SU
END:DAYLIGHT
BEGIN:STANDARD
TZOFFSETFROM:-0400
TZOFFSETTO:-0500
TZNAME:EST
DTSTART:19701101T020000
RRULE:FREQ=YEARLY;BYMONTH=11;BYDAY=1SU
END:STANDARD
END:VTIMEZONE
BEGIN:VEVENT
DTSTART;TZID=America/New_York:20260326T160000
DTEND;TZID=America/New_York:20260326T173000
DTSTAMP:20260421T071606
UID:7213345
CREATED:20260130T103244
DESCRIPTION:
LAST-MODIFIED:20260327T095556
LOCATION:Darlington School
SEQUENCE:0
STATUS:CONFIRMED
SUMMARY:Boys M.S. Tennis vs St. Mary's
TRANSP:OPAQUE
END:VEVENT
BEGIN:VEVENT
DTSTART;TZID=America/New_York:20260331T160000
DTEND;TZID=America/New_York:20260331T173000
DTSTAMP:20260421T071606
UID:7206540
CREATED:20260112T102848
DESCRIPTION:
LAST-MODIFIED:20260401T093311
LOCATION:Georgia Highlands College
SEQUENCE:0
STATUS:CONFIRMED
SUMMARY:Boys M.S. Tennis vs Pepperell
TRANSP:OPAQUE
END:VEVENT
BEGIN:VEVENT
DTSTART;TZID=America/New_York:20260414T160000
DTEND;TZID=America/New_York:20260414T173000
DTSTAMP:20260421T071606
UID:7206541
CREATED:20260112T102920
DESCRIPTION:
LAST-MODIFIED:20260415T094231
LOCATION:Ashworth Middle School
SEQUENCE:0
STATUS:CONFIRMED
SUMMARY:Boys M.S. Tennis vs Ashworth
TRANSP:OPAQUE
END:VEVENT
BEGIN:VEVENT
DTSTART;TZID=America/New_York:20260423T160000
DTEND;TZID=America/New_York:20260423T173000
DTSTAMP:20260421T071606
UID:7206543
CREATED:20260112T103022
DESCRIPTION:
LAST-MODIFIED:20260130T103548
LOCATION:Alto Park
SEQUENCE:0
STATUS:CONFIRMED
SUMMARY:Boys M.S. Tennis vs Coosa
TRANSP:OPAQUE
END:VEVENT
BEGIN:VEVENT
DTSTART;TZID=America/New_York:20260427T160000
DTEND;TZID=America/New_York:20260427T173000
DTSTAMP:20260421T071606
UID:7206542
CREATED:20260112T102947
DESCRIPTION:
LAST-MODIFIED:20260323T104026
LOCATION:Rome-Floyd Tennis Center
SEQUENCE:0
STATUS:CONFIRMED
SUMMARY:Boys M.S. Tennis vs Armuchee
TRANSP:OPAQUE
END:VEVENT
BEGIN:VEVENT
DTSTART;TZID=America/New_York:20260504T160000
DTEND;TZID=America/New_York:20260504T173000
DTSTAMP:20260421T071606
UID:7206544
CREATED:20260112T103041
DESCRIPTION:
LAST-MODIFIED:20260323T104104
LOCATION:Etowah Tennis Courts
SEQUENCE:0
STATUS:CONFIRMED
SUMMARY:Boys M.S. Tennis vs Model
TRANSP:OPAQUE
END:VEVENT
BEGIN:VEVENT
DTSTART;TZID=America/New_York:20260511T140000
DTEND;TZID=America/New_York:20260511T153000
DTSTAMP:20260421T071606
UID:7206545
CREATED:20260112T103117
DESCRIPTION:
LAST-MODIFIED:20260112T103117
LOCATION:The Berry Tennis Center
SEQUENCE:0
STATUS:CONFIRMED
SUMMARY:Boys M.S. Tennis vs FCAA Tournament
TRANSP:OPAQUE
END:VEVENT
END:VCALENDAR