BEGIN:VCALENDAR
PRODID:-//Google Inc//Google Calendar 70.9054//EN
VERSION:2.0
CALSCALE:GREGORIAN
METHOD:PUBLISH
X-WR-CALNAME:Darlington School
X-WR-TIMEZONE:America/New_York
BEGIN:VTIMEZONE
TZID:America/New_York
X-LIC-LOCATION:America/New_York
BEGIN:DAYLIGHT
TZOFFSETFROM:-0500
TZOFFSETTO:-0400
TZNAME:EDT
DTSTART:19700308T020000
RRULE:FREQ=YEARLY;BYMONTH=3;BYDAY=2SU
END:DAYLIGHT
BEGIN:STANDARD
TZOFFSETFROM:-0400
TZOFFSETTO:-0500
TZNAME:EST
DTSTART:19701101T020000
RRULE:FREQ=YEARLY;BYMONTH=11;BYDAY=1SU
END:STANDARD
END:VTIMEZONE
BEGIN:VEVENT
DTSTART;TZID=America/New_York:20250823T094500
DTEND;TZID=America/New_York:20250823T111500
DTSTAMP:20260422T161944
UID:7182965
CREATED:20250728T134945
DESCRIPTION:
LAST-MODIFIED:20250728T134945
LOCATION:Georgia Highlands College
SEQUENCE:0
STATUS:CONFIRMED
SUMMARY:Boys M.S. Cross Country vs Georgia Highlands Invitational
TRANSP:OPAQUE
END:VEVENT
BEGIN:VEVENT
DTSTART;TZID=America/New_York:20250904T170000
DTEND;TZID=America/New_York:20250904T183000
DTSTAMP:20260422T161944
UID:7182966
CREATED:20250728T135030
DESCRIPTION:
LAST-MODIFIED:20250912T122604
LOCATION:Berry College
SEQUENCE:0
STATUS:CONFIRMED
SUMMARY:Boys M.S. Cross Country vs Frost Chapel Invitational
TRANSP:OPAQUE
END:VEVENT
BEGIN:VEVENT
DTSTART;TZID=America/New_York:20250911T170000
DTEND;TZID=America/New_York:20250911T183000
DTSTAMP:20260422T161944
UID:7182967
CREATED:20250728T135113
DESCRIPTION:
LAST-MODIFIED:20250912T122604
LOCATION:Darlington School
SEQUENCE:0
STATUS:CONFIRMED
SUMMARY:Boys M.S. Cross Country vs Darlington Billy Goat Challenge
TRANSP:OPAQUE
END:VEVENT
BEGIN:VEVENT
DTSTART;TZID=America/New_York:20250927T110000
DTEND;TZID=America/New_York:20250927T123000
DTSTAMP:20260422T161944
UID:7182968
CREATED:20250728T135154
DESCRIPTION:
LAST-MODIFIED:20250929T102822
LOCATION:Darlington School
SEQUENCE:0
STATUS:CONFIRMED
SUMMARY:Boys M.S. Cross Country vs Darlington Festival
TRANSP:OPAQUE
END:VEVENT
BEGIN:VEVENT
DTSTART;TZID=America/New_York:20251002T170000
DTEND;TZID=America/New_York:20251002T183000
DTSTAMP:20260422T161944
UID:7182969
CREATED:20250728T135234
DESCRIPTION:
LAST-MODIFIED:20251003T090706
LOCATION:Pepperell Middle School
SEQUENCE:0
STATUS:CONFIRMED
SUMMARY:Boys M.S. Cross Country vs FCAA Region Meet
TRANSP:OPAQUE
END:VEVENT
BEGIN:VEVENT
DTSTART;TZID=America/New_York:20251007T160000
DTEND;TZID=America/New_York:20251007T173000
DTSTAMP:20260422T161944
UID:7182970
CREATED:20250728T135333
DESCRIPTION:
LAST-MODIFIED:20251014T090801
LOCATION:Darlington School
SEQUENCE:0
STATUS:CONFIRMED
SUMMARY:Boys M.S. Cross Country vs Ekiden Relay Race
TRANSP:OPAQUE
END:VEVENT
BEGIN:VEVENT
DTSTART;TZID=America/New_York;VALUE=DATE:20251011
DTSTAMP:20260422T161944
UID:7194040
CREATED:20251017T074852
DESCRIPTION:
LAST-MODIFIED:20251017T074901
LOCATION:
SEQUENCE:0
STATUS:CONFIRMED
SUMMARY:Boys M.S. Cross Country vs State Championship (TBA)
TRANSP:OPAQUE
END:VEVENT
END:VCALENDAR