BEGIN:VCALENDAR
PRODID:-//Google Inc//Google Calendar 70.9054//EN
VERSION:2.0
CALSCALE:GREGORIAN
METHOD:PUBLISH
X-WR-CALNAME:Darlington School
X-WR-TIMEZONE:America/New_York
BEGIN:VTIMEZONE
TZID:America/New_York
X-LIC-LOCATION:America/New_York
BEGIN:DAYLIGHT
TZOFFSETFROM:-0500
TZOFFSETTO:-0400
TZNAME:EDT
DTSTART:19700308T020000
RRULE:FREQ=YEARLY;BYMONTH=3;BYDAY=2SU
END:DAYLIGHT
BEGIN:STANDARD
TZOFFSETFROM:-0400
TZOFFSETTO:-0500
TZNAME:EST
DTSTART:19701101T020000
RRULE:FREQ=YEARLY;BYMONTH=11;BYDAY=1SU
END:STANDARD
END:VTIMEZONE
BEGIN:VEVENT
DTSTART;TZID=America/New_York:20250823T074500
DTEND;TZID=America/New_York:20250823T081500
DTSTAMP:20260425T175923
UID:7182426
CREATED:20250709T124306
DESCRIPTION:
LAST-MODIFIED:20250825T092840
LOCATION:Georgia Highlands College
SEQUENCE:0
STATUS:CONFIRMED
SUMMARY:Girls Varsity Cross Country vs Ridge Ferry Park Invitational
TRANSP:OPAQUE
END:VEVENT
BEGIN:VEVENT
DTSTART;TZID=America/New_York;VALUE=DATE:20250830
DTSTAMP:20260425T175923
UID:7182427
CREATED:20250709T124357
DESCRIPTION:
LAST-MODIFIED:20250903T080842
LOCATION:Orlando\, Florida
SEQUENCE:0
STATUS:CONFIRMED
SUMMARY:Girls Varsity Cross Country vs Ocoee CC Invitational (TBA)
TRANSP:OPAQUE
END:VEVENT
BEGIN:VEVENT
DTSTART;TZID=America/New_York;VALUE=DATE:20250913
DTSTAMP:20260425T175923
UID:7182428
CREATED:20250709T124436
DESCRIPTION:
LAST-MODIFIED:20250916T095601
LOCATION:Huntsville\, Alabama
SEQUENCE:0
STATUS:CONFIRMED
SUMMARY:Girls Varsity Cross Country vs Southern Showcase (TBA)
TRANSP:OPAQUE
END:VEVENT
BEGIN:VEVENT
DTSTART;TZID=America/New_York;VALUE=DATE:20250927
DTSTAMP:20260425T175923
UID:7182429
CREATED:20250709T124507
DESCRIPTION:
LAST-MODIFIED:20250929T102610
LOCATION:Darlington School
SEQUENCE:0
STATUS:CONFIRMED
SUMMARY:Girls Varsity Cross Country vs Darlington Festival (TBA)
TRANSP:OPAQUE
END:VEVENT
BEGIN:VEVENT
DTSTART;TZID=America/New_York:20251004T095500
DTEND;TZID=America/New_York;VALUE=DATE:20251005T095500
DTSTAMP:20260425T175923
UID:7182430
CREATED:20250709T124611
DESCRIPTION:
LAST-MODIFIED:20251006T134238
LOCATION:TBA
SEQUENCE:0
STATUS:CONFIRMED
SUMMARY:Girls Varsity Cross Country vs Alexander/Asics
TRANSP:OPAQUE
END:VEVENT
BEGIN:VEVENT
DTSTART;TZID=America/New_York:20251021T163000
DTEND;TZID=America/New_York:20251021T180000
DTSTAMP:20260425T175923
UID:7192129
CREATED:20251003T145840
DESCRIPTION:
LAST-MODIFIED:20251022T161235
LOCATION:Georgia Highlands College
SEQUENCE:0
STATUS:CONFIRMED
SUMMARY:Girls Varsity Cross Country vs Rome All Area
TRANSP:OPAQUE
END:VEVENT
BEGIN:VEVENT
DTSTART;TZID=America/New_York;VALUE=DATE:20251101
DTSTAMP:20260425T175923
UID:7182432
CREATED:20250709T124734
DESCRIPTION:
LAST-MODIFIED:20251103T110013
LOCATION:Darlington School
SEQUENCE:0
STATUS:CONFIRMED
SUMMARY:Girls Varsity Cross Country vs Sectional (TBA)
TRANSP:OPAQUE
END:VEVENT
BEGIN:VEVENT
DTSTART;TZID=America/New_York;VALUE=DATE:20251107
DTSTAMP:20260425T175923
UID:7182433
CREATED:20250709T124806
DESCRIPTION:
LAST-MODIFIED:20251110T114620
LOCATION:Carrollton High School
SEQUENCE:0
STATUS:CONFIRMED
SUMMARY:Girls Varsity Cross Country vs State (TBA)
TRANSP:OPAQUE
END:VEVENT
END:VCALENDAR