BEGIN:VCALENDAR
PRODID:-//Google Inc//Google Calendar 70.9054//EN
VERSION:2.0
CALSCALE:GREGORIAN
METHOD:PUBLISH
X-WR-CALNAME:Darlington School
X-WR-TIMEZONE:America/New_York
BEGIN:VTIMEZONE
TZID:America/New_York
X-LIC-LOCATION:America/New_York
BEGIN:DAYLIGHT
TZOFFSETFROM:-0500
TZOFFSETTO:-0400
TZNAME:EDT
DTSTART:19700308T020000
RRULE:FREQ=YEARLY;BYMONTH=3;BYDAY=2SU
END:DAYLIGHT
BEGIN:STANDARD
TZOFFSETFROM:-0400
TZOFFSETTO:-0500
TZNAME:EST
DTSTART:19701101T020000
RRULE:FREQ=YEARLY;BYMONTH=11;BYDAY=1SU
END:STANDARD
END:VTIMEZONE
BEGIN:VEVENT
DTSTART;TZID=America/New_York:20260302T173000
DTEND;TZID=America/New_York:20260302T190000
DTSTAMP:20260422T162055
UID:7207089
CREATED:20260116T092306
DESCRIPTION:
LAST-MODIFIED:20260303T140008
LOCATION:Darlington School
SEQUENCE:0
STATUS:CONFIRMED
SUMMARY:Boys J.V. Soccer vs Coosa
TRANSP:OPAQUE
END:VEVENT
BEGIN:VEVENT
DTSTART;TZID=America/New_York:20260318T183000
DTEND;TZID=America/New_York:20260318T200000
DTSTAMP:20260422T162055
UID:7204922
CREATED:20251216T160858
DESCRIPTION:
LAST-MODIFIED:20260319T110924
LOCATION:Darlington School
SEQUENCE:0
STATUS:CONFIRMED
SUMMARY:Boys J.V. Soccer vs Trion
TRANSP:OPAQUE
END:VEVENT
BEGIN:VEVENT
DTSTART;TZID=America/New_York:20260326T193000
DTEND;TZID=America/New_York:20260326T210000
DTSTAMP:20260422T162055
UID:7217520
CREATED:20260224T165838
DESCRIPTION:
LAST-MODIFIED:20260327T100503
LOCATION:Northwest Whitfield
SEQUENCE:0
STATUS:CONFIRMED
SUMMARY:Boys J.V. Soccer vs Northwest Whitfield
TRANSP:OPAQUE
END:VEVENT
BEGIN:VEVENT
DTSTART;TZID=America/New_York:20260330T173000
DTEND;TZID=America/New_York:20260330T190000
DTSTAMP:20260422T162055
UID:7206849
CREATED:20260114T123035
DESCRIPTION:
LAST-MODIFIED:20260331T180603
LOCATION:Coosa High School
SEQUENCE:0
STATUS:CONFIRMED
SUMMARY:Boys J.V. Soccer vs Coosa
TRANSP:OPAQUE
END:VEVENT
END:VCALENDAR