BEGIN:VCALENDAR
PRODID:-//Google Inc//Google Calendar 70.9054//EN
VERSION:2.0
CALSCALE:GREGORIAN
METHOD:PUBLISH
X-WR-CALNAME:Darlington School
X-WR-TIMEZONE:America/New_York
BEGIN:VTIMEZONE
TZID:America/New_York
X-LIC-LOCATION:America/New_York
BEGIN:DAYLIGHT
TZOFFSETFROM:-0500
TZOFFSETTO:-0400
TZNAME:EDT
DTSTART:19700308T020000
RRULE:FREQ=YEARLY;BYMONTH=3;BYDAY=2SU
END:DAYLIGHT
BEGIN:STANDARD
TZOFFSETFROM:-0400
TZOFFSETTO:-0500
TZNAME:EST
DTSTART:19701101T020000
RRULE:FREQ=YEARLY;BYMONTH=11;BYDAY=1SU
END:STANDARD
END:VTIMEZONE
BEGIN:VEVENT
DTSTART;TZID=America/New_York:20260217T193000
DTEND;TZID=America/New_York:20260217T210000
DTSTAMP:20260422T162038
UID:7215058
CREATED:20260217T142826
DESCRIPTION:
LAST-MODIFIED:20260220T080118
LOCATION:Alto Park
SEQUENCE:0
STATUS:CONFIRMED
SUMMARY:Boys M.S. 5th Grade Baseball vs Armuchee
TRANSP:OPAQUE
END:VEVENT
BEGIN:VEVENT
DTSTART;TZID=America/New_York:20260219T174500
DTEND;TZID=America/New_York:20260219T191500
DTSTAMP:20260422T162038
UID:7215059
CREATED:20260217T142849
DESCRIPTION:
LAST-MODIFIED:20260220T080118
LOCATION:Alto Park
SEQUENCE:0
STATUS:CONFIRMED
SUMMARY:Boys M.S. 5th Grade Baseball vs Unity
TRANSP:OPAQUE
END:VEVENT
BEGIN:VEVENT
DTSTART;TZID=America/New_York:20260224T193000
DTEND;TZID=America/New_York:20260224T210000
DTSTAMP:20260422T162038
UID:7215061
CREATED:20260217T143025
DESCRIPTION:
LAST-MODIFIED:20260227T083621
LOCATION:Alto Park
SEQUENCE:0
STATUS:CONFIRMED
SUMMARY:Boys M.S. 5th Grade Baseball vs Unity
TRANSP:OPAQUE
END:VEVENT
BEGIN:VEVENT
DTSTART;TZID=America/New_York:20260302T174500
DTEND;TZID=America/New_York:20260302T191500
DTSTAMP:20260422T162038
UID:7215062
CREATED:20260217T143056
DESCRIPTION:
LAST-MODIFIED:20260305T104955
LOCATION:Alto Park
SEQUENCE:0
STATUS:CONFIRMED
SUMMARY:Boys M.S. 5th Grade Baseball vs Armuchee
TRANSP:OPAQUE
END:VEVENT
BEGIN:VEVENT
DTSTART;TZID=America/New_York:20260303T193000
DTEND;TZID=America/New_York:20260303T210000
DTSTAMP:20260422T162038
UID:7215063
CREATED:20260217T143130
DESCRIPTION:
LAST-MODIFIED:20260305T104955
LOCATION:Alto Park
SEQUENCE:0
STATUS:CONFIRMED
SUMMARY:Boys M.S. 5th Grade Baseball vs Berry
TRANSP:OPAQUE
END:VEVENT
BEGIN:VEVENT
DTSTART;TZID=America/New_York:20260317T193000
DTEND;TZID=America/New_York:20260317T210000
DTSTAMP:20260422T162038
UID:7215065
CREATED:20260217T143224
DESCRIPTION:
LAST-MODIFIED:20260318T073101
LOCATION:Alto Park
SEQUENCE:0
STATUS:CONFIRMED
SUMMARY:Boys M.S. 5th Grade Baseball vs Darlington
TRANSP:OPAQUE
END:VEVENT
BEGIN:VEVENT
DTSTART;TZID=America/New_York:20260324T174500
DTEND;TZID=America/New_York:20260324T191500
DTSTAMP:20260422T162038
UID:7215066
CREATED:20260217T143301
DESCRIPTION:
LAST-MODIFIED:20260327T104605
LOCATION:Alto Park
SEQUENCE:0
STATUS:CONFIRMED
SUMMARY:Boys M.S. 5th Grade Baseball vs Armuchee
TRANSP:OPAQUE
END:VEVENT
BEGIN:VEVENT
DTSTART;TZID=America/New_York:20260325T174500
DTEND;TZID=America/New_York:20260325T191500
DTSTAMP:20260422T162038
UID:7215064
CREATED:20260217T143157
DESCRIPTION:
LAST-MODIFIED:20260327T104605
LOCATION:Alto Park
SEQUENCE:0
STATUS:CONFIRMED
SUMMARY:Boys M.S. 5th Grade Baseball vs Rome
TRANSP:OPAQUE
END:VEVENT
BEGIN:VEVENT
DTSTART;TZID=America/New_York:20260326T193000
DTEND;TZID=America/New_York:20260326T210000
DTSTAMP:20260422T162038
UID:7215067
CREATED:20260217T143334
DESCRIPTION:
LAST-MODIFIED:20260328T121119
LOCATION:Alto Park
SEQUENCE:0
STATUS:CONFIRMED
SUMMARY:Boys M.S. 5th Grade Baseball vs Chattooga
TRANSP:OPAQUE
END:VEVENT
BEGIN:VEVENT
DTSTART;TZID=America/New_York:20260330T174500
DTEND;TZID=America/New_York:20260330T191500
DTSTAMP:20260422T162038
UID:7215068
CREATED:20260217T143410
DESCRIPTION:
LAST-MODIFIED:20260401T093545
LOCATION:Alto Park
SEQUENCE:0
STATUS:CONFIRMED
SUMMARY:Boys M.S. 5th Grade Baseball vs Pepperell
TRANSP:OPAQUE
END:VEVENT
BEGIN:VEVENT
DTSTART;TZID=America/New_York:20260331T193000
DTEND;TZID=America/New_York:20260331T210000
DTSTAMP:20260422T162038
UID:7215069
CREATED:20260217T143435
DESCRIPTION:
LAST-MODIFIED:20260402T134931
LOCATION:Riverview Baseball Complex-behind levee
SEQUENCE:0
STATUS:CONFIRMED
SUMMARY:Boys M.S. 5th Grade Baseball vs Coosa
TRANSP:OPAQUE
END:VEVENT
BEGIN:VEVENT
DTSTART;TZID=America/New_York:20260401T193000
DTEND;TZID=America/New_York:20260401T210000
DTSTAMP:20260422T162038
UID:7215060
CREATED:20260217T142959
DESCRIPTION:
LAST-MODIFIED:20260402T134931
LOCATION:Alto Park
SEQUENCE:0
STATUS:CONFIRMED
SUMMARY:Boys M.S. 5th Grade Baseball vs Chattooga
TRANSP:OPAQUE
END:VEVENT
END:VCALENDAR