BEGIN:VCALENDAR
PRODID:-//Google Inc//Google Calendar 70.9054//EN
VERSION:2.0
CALSCALE:GREGORIAN
METHOD:PUBLISH
X-WR-CALNAME:Darlington School
X-WR-TIMEZONE:America/New_York
BEGIN:VTIMEZONE
TZID:America/New_York
X-LIC-LOCATION:America/New_York
BEGIN:DAYLIGHT
TZOFFSETFROM:-0500
TZOFFSETTO:-0400
TZNAME:EDT
DTSTART:19700308T020000
RRULE:FREQ=YEARLY;BYMONTH=3;BYDAY=2SU
END:DAYLIGHT
BEGIN:STANDARD
TZOFFSETFROM:-0400
TZOFFSETTO:-0500
TZNAME:EST
DTSTART:19701101T020000
RRULE:FREQ=YEARLY;BYMONTH=11;BYDAY=1SU
END:STANDARD
END:VTIMEZONE
BEGIN:VEVENT
DTSTART;TZID=America/New_York:20260304T163000
DTEND;TZID=America/New_York:20260304T180000
DTSTAMP:20260422T162441
UID:7207730
CREATED:20260120T122823
DESCRIPTION:
LAST-MODIFIED:20260327T104035
LOCATION:Darlington School
SEQUENCE:0
STATUS:CONFIRMED
SUMMARY:Boys M.S. Lacrosse vs Bremen
TRANSP:OPAQUE
END:VEVENT
BEGIN:VEVENT
DTSTART;TZID=America/New_York:20260305T173000
DTEND;TZID=America/New_York:20260305T190000
DTSTAMP:20260422T162441
UID:7207731
CREATED:20260120T122913
DESCRIPTION:
LAST-MODIFIED:20260327T104035
LOCATION:Carrollton Middle School
SEQUENCE:0
STATUS:CONFIRMED
SUMMARY:Boys M.S. Lacrosse vs Carrollton
TRANSP:OPAQUE
END:VEVENT
BEGIN:VEVENT
DTSTART;TZID=America/New_York:20260326T173000
DTEND;TZID=America/New_York:20260326T190000
DTSTAMP:20260422T162441
UID:7207732
CREATED:20260120T123003
DESCRIPTION:
LAST-MODIFIED:20260327T104035
LOCATION:Bremen High School
SEQUENCE:0
STATUS:CONFIRMED
SUMMARY:Boys M.S. Lacrosse vs Bremen
TRANSP:OPAQUE
END:VEVENT
BEGIN:VEVENT
DTSTART;TZID=America/New_York:20260330T173000
DTEND;TZID=America/New_York:20260330T190000
DTSTAMP:20260422T162441
UID:7216868
CREATED:20260223T141928
DESCRIPTION:
LAST-MODIFIED:20260223T141928
LOCATION:Darlington School
SEQUENCE:0
STATUS:CONFIRMED
SUMMARY:Boys M.S. Lacrosse vs Hammond Creek
TRANSP:OPAQUE
END:VEVENT
BEGIN:VEVENT
DTSTART;TZID=America/New_York:20260331T173000
DTEND;TZID=America/New_York:20260331T190000
DTSTAMP:20260422T162441
UID:7207733
CREATED:20260120T123055
DESCRIPTION:
LAST-MODIFIED:20260120T123055
LOCATION:Central of Carrollton
SEQUENCE:0
STATUS:CONFIRMED
SUMMARY:Boys M.S. Lacrosse vs Central Carrollton
TRANSP:OPAQUE
END:VEVENT
BEGIN:VEVENT
DTSTART;TZID=America/New_York:20260401T180000
DTEND;TZID=America/New_York:20260401T193000
DTSTAMP:20260422T162441
UID:7207734
CREATED:20260120T123120
DESCRIPTION:
LAST-MODIFIED:20260120T123120
LOCATION:Darlington School
SEQUENCE:0
STATUS:CONFIRMED
SUMMARY:Boys M.S. Lacrosse vs Carrollton
TRANSP:OPAQUE
END:VEVENT
BEGIN:VEVENT
DTSTART;TZID=America/New_York;VALUE=DATE:20260411
DTSTAMP:20260422T162441
UID:7216869
CREATED:20260223T142016
DESCRIPTION:
LAST-MODIFIED:20260223T142016
LOCATION:Baylor School
SEQUENCE:0
STATUS:CONFIRMED
SUMMARY:Boys M.S. Lacrosse vs Baylor (TBA)
TRANSP:OPAQUE
END:VEVENT
BEGIN:VEVENT
DTSTART;TZID=America/New_York:20260415T180000
DTEND;TZID=America/New_York:20260415T193000
DTSTAMP:20260422T162441
UID:7207735
CREATED:20260120T123144
DESCRIPTION:
LAST-MODIFIED:20260120T123144
LOCATION:Darlington School
SEQUENCE:0
STATUS:CONFIRMED
SUMMARY:Boys M.S. Lacrosse vs Central Carrollton
TRANSP:OPAQUE
END:VEVENT
BEGIN:VEVENT
DTSTART;TZID=America/New_York:20260423T173000
DTEND;TZID=America/New_York:20260423T190000
DTSTAMP:20260422T162441
UID:7216870
CREATED:20260223T142111
DESCRIPTION:
LAST-MODIFIED:20260223T142111
LOCATION:
SEQUENCE:0
STATUS:CONFIRMED
SUMMARY:Boys M.S. Lacrosse vs Hammond Creek
TRANSP:OPAQUE
END:VEVENT
END:VCALENDAR