BEGIN:VCALENDAR
PRODID:-//Google Inc//Google Calendar 70.9054//EN
VERSION:2.0
CALSCALE:GREGORIAN
METHOD:PUBLISH
X-WR-CALNAME:Darlington School
X-WR-TIMEZONE:America/New_York
BEGIN:VTIMEZONE
TZID:America/New_York
X-LIC-LOCATION:America/New_York
BEGIN:DAYLIGHT
TZOFFSETFROM:-0500
TZOFFSETTO:-0400
TZNAME:EDT
DTSTART:19700308T020000
RRULE:FREQ=YEARLY;BYMONTH=3;BYDAY=2SU
END:DAYLIGHT
BEGIN:STANDARD
TZOFFSETFROM:-0400
TZOFFSETTO:-0500
TZNAME:EST
DTSTART:19701101T020000
RRULE:FREQ=YEARLY;BYMONTH=11;BYDAY=1SU
END:STANDARD
END:VTIMEZONE
BEGIN:VEVENT
DTSTART;TZID=America/New_York:20250820T161500
DTEND;TZID=America/New_York:20250820T174500
DTSTAMP:20260425T175923
UID:7182403
CREATED:20250709T081343
DESCRIPTION:
LAST-MODIFIED:20250821T124005
LOCATION:Armuchee High School
SEQUENCE:0
STATUS:CONFIRMED
SUMMARY:Girls M.S. Volleyball vs Armuchee
TRANSP:OPAQUE
END:VEVENT
BEGIN:VEVENT
DTSTART;TZID=America/New_York:20250825T161500
DTEND;TZID=America/New_York:20250825T174500
DTSTAMP:20260425T175923
UID:7182404
CREATED:20250709T081413
DESCRIPTION:
LAST-MODIFIED:20250826T095412
LOCATION:Darlington School
SEQUENCE:0
STATUS:CONFIRMED
SUMMARY:Girls M.S. Volleyball vs Pepperell
TRANSP:OPAQUE
END:VEVENT
BEGIN:VEVENT
DTSTART;TZID=America/New_York:20250827T161500
DTEND;TZID=America/New_York:20250827T174500
DTSTAMP:20260425T175923
UID:7182405
CREATED:20250709T081453
DESCRIPTION:
LAST-MODIFIED:20250828T105829
LOCATION:Darlington School
SEQUENCE:0
STATUS:CONFIRMED
SUMMARY:Girls M.S. Volleyball vs Model 
TRANSP:OPAQUE
END:VEVENT
BEGIN:VEVENT
DTSTART;TZID=America/New_York:20250903T161500
DTEND;TZID=America/New_York:20250903T174500
DTSTAMP:20260425T175923
UID:7182406
CREATED:20250709T081550
DESCRIPTION:
LAST-MODIFIED:20250904T094707
LOCATION:Chattooga/Summerville Middle School
SEQUENCE:0
STATUS:CONFIRMED
SUMMARY:Girls M.S. Volleyball vs Chattooga
TRANSP:OPAQUE
END:VEVENT
BEGIN:VEVENT
DTSTART;TZID=America/New_York:20250908T161500
DTEND;TZID=America/New_York:20250908T174500
DTSTAMP:20260425T175923
UID:7182407
CREATED:20250709T081626
DESCRIPTION:
LAST-MODIFIED:20250909T102308
LOCATION:Coosa Middle School
SEQUENCE:0
STATUS:CONFIRMED
SUMMARY:Girls M.S. Volleyball vs Coosa
TRANSP:OPAQUE
END:VEVENT
BEGIN:VEVENT
DTSTART;TZID=America/New_York:20250910T161500
DTEND;TZID=America/New_York:20250910T174500
DTSTAMP:20260425T175923
UID:7182408
CREATED:20250709T081659
DESCRIPTION:
LAST-MODIFIED:20250915T092822
LOCATION:Ashworth Middle School
SEQUENCE:0
STATUS:CONFIRMED
SUMMARY:Girls M.S. Volleyball vs Ashworth
TRANSP:OPAQUE
END:VEVENT
BEGIN:VEVENT
DTSTART;TZID=America/New_York:20250922T161500
DTEND;TZID=America/New_York:20250922T174500
DTSTAMP:20260425T175923
UID:7182409
CREATED:20250709T081756
DESCRIPTION:
LAST-MODIFIED:20250923T101054
LOCATION:Darlington School
SEQUENCE:0
STATUS:CONFIRMED
SUMMARY:Girls M.S. Volleyball vs Ashworth
TRANSP:OPAQUE
END:VEVENT
BEGIN:VEVENT
DTSTART;TZID=America/New_York:20250922T181500
DTEND;TZID=America/New_York:20250922T194500
DTSTAMP:20260425T175923
UID:7182410
CREATED:20250709T081824
DESCRIPTION:
LAST-MODIFIED:20250923T101054
LOCATION:Darlington School
SEQUENCE:0
STATUS:CONFIRMED
SUMMARY:Girls M.S. Volleyball vs Coosa
TRANSP:OPAQUE
END:VEVENT
BEGIN:VEVENT
DTSTART;TZID=America/New_York:20250924T171500
DTEND;TZID=America/New_York:20250924T184500
DTSTAMP:20260425T175923
UID:7182411
CREATED:20250709T081925
DESCRIPTION:
LAST-MODIFIED:20250925T092536
LOCATION:Pepperell Middle School
SEQUENCE:0
STATUS:CONFIRMED
SUMMARY:Girls M.S. Volleyball vs Armuchee
TRANSP:OPAQUE
END:VEVENT
BEGIN:VEVENT
DTSTART;TZID=America/New_York:20250924T181500
DTEND;TZID=America/New_York:20250924T194500
DTSTAMP:20260425T175923
UID:7182412
CREATED:20250709T082006
DESCRIPTION:
LAST-MODIFIED:20250925T092536
LOCATION:Pepperell Middle School
SEQUENCE:0
STATUS:CONFIRMED
SUMMARY:Girls M.S. Volleyball vs Pepperell
TRANSP:OPAQUE
END:VEVENT
BEGIN:VEVENT
DTSTART;TZID=America/New_York:20250929T171500
DTEND;TZID=America/New_York:20250929T184500
DTSTAMP:20260425T175923
UID:7182413
CREATED:20250709T082114
DESCRIPTION:
LAST-MODIFIED:20250930T093113
LOCATION:Model Middle School
SEQUENCE:0
STATUS:CONFIRMED
SUMMARY:Girls M.S. Volleyball vs Chattooga
TRANSP:OPAQUE
END:VEVENT
BEGIN:VEVENT
DTSTART;TZID=America/New_York:20250929T181500
DTEND;TZID=America/New_York:20250929T194500
DTSTAMP:20260425T175923
UID:7182414
CREATED:20250709T082151
DESCRIPTION:
LAST-MODIFIED:20250930T093113
LOCATION:Model Middle School
SEQUENCE:0
STATUS:CONFIRMED
SUMMARY:Girls M.S. Volleyball vs Model
TRANSP:OPAQUE
END:VEVENT
BEGIN:VEVENT
DTSTART;TZID=America/New_York:20251001T171500
DTEND;TZID=America/New_York:20251001T184500
DTSTAMP:20260425T175923
UID:7182416
CREATED:20250709T082300
DESCRIPTION:
LAST-MODIFIED:20251002T093825
LOCATION:Darlington School
SEQUENCE:0
STATUS:CONFIRMED
SUMMARY:Girls M.S. Volleyball vs FCAA Semi-Final vs. Armuchee
TRANSP:OPAQUE
END:VEVENT
BEGIN:VEVENT
DTSTART;TZID=America/New_York:20251001T181500
DTEND;TZID=America/New_York:20251001T194500
DTSTAMP:20260425T175923
UID:7182417
CREATED:20250709T082333
DESCRIPTION:
LAST-MODIFIED:20251002T093825
LOCATION:Darlington School
SEQUENCE:0
STATUS:CONFIRMED
SUMMARY:Girls M.S. Volleyball vs FCAA Final vs. Model
TRANSP:OPAQUE
END:VEVENT
END:VCALENDAR